BEGIN:VCALENDAR
VERSION:2.0
PRODID:-//神奈川県生活協同組合連合会 - ECPv5.9.1//NONSGML v1.0//EN
CALSCALE:GREGORIAN
METHOD:PUBLISH
X-WR-CALNAME:神奈川県生活協同組合連合会
X-ORIGINAL-URL:https://coopkana.jp
X-WR-CALDESC:神奈川県生活協同組合連合会 のイベント
BEGIN:VTIMEZONE
TZID:Asia/Tokyo
BEGIN:STANDARD
TZOFFSETFROM:+0900
TZOFFSETTO:+0900
TZNAME:JST
DTSTART:20250101T000000
END:STANDARD
END:VTIMEZONE
BEGIN:VEVENT
DTSTART;VALUE=DATE:20250515
DTEND;VALUE=DATE:20250516
DTSTAMP:20260422T094612
CREATED:20250312T024021Z
LAST-MODIFIED:20250312T024021Z
UID:13742-1747267200-1747353599@coopkana.jp
SUMMARY:平和行進
DESCRIPTION:
URL:https://coopkana.jp/event/%e5%b9%b3%e5%92%8c%e8%a1%8c%e9%80%b2-8/
END:VEVENT
BEGIN:VEVENT
DTSTART;VALUE=DATE:20250515
DTEND;VALUE=DATE:20250516
DTSTAMP:20260422T094612
CREATED:20250312T024052Z
LAST-MODIFIED:20250312T024052Z
UID:13743-1747267200-1747353599@coopkana.jp
SUMMARY:医療部会(⑥組織責任者会議)
DESCRIPTION:
URL:https://coopkana.jp/event/%e5%8c%bb%e7%99%82%e9%83%a8%e4%bc%9a%e2%91%a5%e7%b5%84%e7%b9%94%e8%b2%ac%e4%bb%bb%e8%80%85%e4%bc%9a%e8%ad%b0/
END:VEVENT
END:VCALENDAR