BEGIN:VCALENDAR
VERSION:2.0
PRODID:-//神奈川県生活協同組合連合会 - ECPv5.9.1//NONSGML v1.0//EN
CALSCALE:GREGORIAN
METHOD:PUBLISH
X-WR-CALNAME:神奈川県生活協同組合連合会
X-ORIGINAL-URL:https://coopkana.jp
X-WR-CALDESC:神奈川県生活協同組合連合会 のイベント
BEGIN:VTIMEZONE
TZID:Asia/Tokyo
BEGIN:STANDARD
TZOFFSETFROM:+0900
TZOFFSETTO:+0900
TZNAME:JST
DTSTART:20250101T000000
END:STANDARD
END:VTIMEZONE
BEGIN:VEVENT
DTSTART;VALUE=DATE:20250528
DTEND;VALUE=DATE:20250529
DTSTAMP:20260422T082846
CREATED:20250312T025026Z
LAST-MODIFIED:20250312T025026Z
UID:13750-1748390400-1748476799@coopkana.jp
SUMMARY:福祉事業連絡会
DESCRIPTION:
URL:https://coopkana.jp/event/%e7%a6%8f%e7%a5%89%e4%ba%8b%e6%a5%ad%e9%80%a3%e7%b5%a1%e4%bc%9a-10/
END:VEVENT
END:VCALENDAR