BEGIN:VCALENDAR
VERSION:2.0
PRODID:-//神奈川県生活協同組合連合会 - ECPv5.9.1//NONSGML v1.0//EN
CALSCALE:GREGORIAN
METHOD:PUBLISH
X-WR-CALNAME:神奈川県生活協同組合連合会
X-ORIGINAL-URL:https://coopkana.jp
X-WR-CALDESC:神奈川県生活協同組合連合会 のイベント
BEGIN:VTIMEZONE
TZID:Asia/Tokyo
BEGIN:STANDARD
TZOFFSETFROM:+0900
TZOFFSETTO:+0900
TZNAME:JST
DTSTART:20250101T000000
END:STANDARD
END:VTIMEZONE
BEGIN:VEVENT
DTSTART;VALUE=DATE:20250701
DTEND;VALUE=DATE:20250702
DTSTAMP:20260422T065459
CREATED:20250501T103641Z
LAST-MODIFIED:20250501T103653Z
UID:13838-1751328000-1751414399@coopkana.jp
SUMMARY:第5回ヒロナガ運営委員会
DESCRIPTION:
URL:https://coopkana.jp/event/%e7%ac%ac5%e5%9b%9e%e3%83%92%e3%83%ad%e3%83%8a%e3%82%ac%e9%81%8b%e5%96%b6%e5%a7%94%e5%93%a1%e4%bc%9a/
END:VEVENT
BEGIN:VEVENT
DTSTART;VALUE=DATE:20250701
DTEND;VALUE=DATE:20250702
DTSTAMP:20260422T065459
CREATED:20250501T103722Z
LAST-MODIFIED:20250501T103722Z
UID:13839-1751328000-1751414399@coopkana.jp
SUMMARY:第5回原爆と人間展運営委員会
DESCRIPTION:
URL:https://coopkana.jp/event/%e7%ac%ac5%e5%9b%9e%e5%8e%9f%e7%88%86%e3%81%a8%e4%ba%ba%e9%96%93%e5%b1%95%e9%81%8b%e5%96%b6%e5%a7%94%e5%93%a1%e4%bc%9a/
END:VEVENT
BEGIN:VEVENT
DTSTART;VALUE=DATE:20250701
DTEND;VALUE=DATE:20250702
DTSTAMP:20260422T065459
CREATED:20250501T103754Z
LAST-MODIFIED:20250501T103754Z
UID:13840-1751328000-1751414399@coopkana.jp
SUMMARY:第5回平和行進懇談会（会計報告）
DESCRIPTION:
URL:https://coopkana.jp/event/%e7%ac%ac5%e5%9b%9e%e5%b9%b3%e5%92%8c%e8%a1%8c%e9%80%b2%e6%87%87%e8%ab%87%e4%bc%9a%ef%bc%88%e4%bc%9a%e8%a8%88%e5%a0%b1%e5%91%8a%ef%bc%89/
END:VEVENT
END:VCALENDAR