BEGIN:VCALENDAR
VERSION:2.0
PRODID:-//神奈川県生活協同組合連合会 - ECPv5.9.1//NONSGML v1.0//EN
CALSCALE:GREGORIAN
METHOD:PUBLISH
X-WR-CALNAME:神奈川県生活協同組合連合会
X-ORIGINAL-URL:https://coopkana.jp
X-WR-CALDESC:神奈川県生活協同組合連合会 のイベント
BEGIN:VTIMEZONE
TZID:Asia/Tokyo
BEGIN:STANDARD
TZOFFSETFROM:+0900
TZOFFSETTO:+0900
TZNAME:JST
DTSTART:20250101T000000
END:STANDARD
END:VTIMEZONE
BEGIN:VEVENT
DTSTART;VALUE=DATE:20250712
DTEND;VALUE=DATE:20250713
DTSTAMP:20260422T065600
CREATED:20250501T103958Z
LAST-MODIFIED:20250501T103958Z
UID:13843-1752278400-1752364799@coopkana.jp
SUMMARY:ヒロナガ事結団式＆事前説明会
DESCRIPTION:
URL:https://coopkana.jp/event/%e3%83%92%e3%83%ad%e3%83%8a%e3%82%ac%e4%ba%8b%e7%b5%90%e5%9b%a3%e5%bc%8f%ef%bc%86%e4%ba%8b%e5%89%8d%e8%aa%ac%e6%98%8e%e4%bc%9a/
END:VEVENT
END:VCALENDAR