BEGIN:VCALENDAR
VERSION:2.0
PRODID:-//神奈川県生活協同組合連合会 - ECPv5.9.1//NONSGML v1.0//EN
CALSCALE:GREGORIAN
METHOD:PUBLISH
X-WR-CALNAME:神奈川県生活協同組合連合会
X-ORIGINAL-URL:https://coopkana.jp
X-WR-CALDESC:神奈川県生活協同組合連合会 のイベント
BEGIN:VTIMEZONE
TZID:Asia/Tokyo
BEGIN:STANDARD
TZOFFSETFROM:+0900
TZOFFSETTO:+0900
TZNAME:JST
DTSTART:20250101T000000
END:STANDARD
END:VTIMEZONE
BEGIN:VEVENT
DTSTART;VALUE=DATE:20250801
DTEND;VALUE=DATE:20250802
DTSTAMP:20260422T052113
CREATED:20250718T072139Z
LAST-MODIFIED:20250718T072139Z
UID:14048-1754006400-1754092799@coopkana.jp
SUMMARY:MCA無線訓練
DESCRIPTION:
URL:https://coopkana.jp/event/mca%e7%84%a1%e7%b7%9a%e8%a8%93%e7%b7%b4-14/
END:VEVENT
END:VCALENDAR