BEGIN:VCALENDAR
VERSION:2.0
PRODID:-//神奈川県生活協同組合連合会 - ECPv5.9.1//NONSGML v1.0//EN
CALSCALE:GREGORIAN
METHOD:PUBLISH
X-WR-CALNAME:神奈川県生活協同組合連合会
X-ORIGINAL-URL:https://coopkana.jp
X-WR-CALDESC:神奈川県生活協同組合連合会 のイベント
BEGIN:VTIMEZONE
TZID:Asia/Tokyo
BEGIN:STANDARD
TZOFFSETFROM:+0900
TZOFFSETTO:+0900
TZNAME:JST
DTSTART:20250101T000000
END:STANDARD
END:VTIMEZONE
BEGIN:VEVENT
DTSTART;VALUE=DATE:20250809
DTEND;VALUE=DATE:20250810
DTSTAMP:20260422T052124
CREATED:20250718T072600Z
LAST-MODIFIED:20250718T072600Z
UID:14054-1754697600-1754783999@coopkana.jp
SUMMARY:ナガサキ平和スタディツアー
DESCRIPTION:
URL:https://coopkana.jp/event/%e3%83%8a%e3%82%ac%e3%82%b5%e3%82%ad%e5%b9%b3%e5%92%8c%e3%82%b9%e3%82%bf%e3%83%87%e3%82%a3%e3%83%84%e3%82%a2%e3%83%bc-4/
END:VEVENT
END:VCALENDAR