BEGIN:VCALENDAR
VERSION:2.0
PRODID:-//神奈川県生活協同組合連合会 - ECPv5.9.1//NONSGML v1.0//EN
CALSCALE:GREGORIAN
METHOD:PUBLISH
X-WR-CALNAME:神奈川県生活協同組合連合会
X-ORIGINAL-URL:https://coopkana.jp
X-WR-CALDESC:神奈川県生活協同組合連合会 のイベント
BEGIN:VTIMEZONE
TZID:Asia/Tokyo
BEGIN:STANDARD
TZOFFSETFROM:+0900
TZOFFSETTO:+0900
TZNAME:JST
DTSTART:20250101T000000
END:STANDARD
END:VTIMEZONE
BEGIN:VEVENT
DTSTART;VALUE=DATE:20250823
DTEND;VALUE=DATE:20250824
DTSTAMP:20260422T052125
CREATED:20250718T072726Z
LAST-MODIFIED:20250718T072726Z
UID:14057-1755907200-1755993599@coopkana.jp
SUMMARY:原爆と人間展
DESCRIPTION:
URL:https://coopkana.jp/event/%e5%8e%9f%e7%88%86%e3%81%a8%e4%ba%ba%e9%96%93%e5%b1%95-7/
END:VEVENT
BEGIN:VEVENT
DTSTART;VALUE=DATE:20250823
DTEND;VALUE=DATE:20250824
DTSTAMP:20260422T052125
CREATED:20250718T072753Z
LAST-MODIFIED:20250718T072753Z
UID:14058-1755907200-1755993599@coopkana.jp
SUMMARY:ヒロ・ナガ平和スタディツアー報告会
DESCRIPTION:
URL:https://coopkana.jp/event/%e3%83%92%e3%83%ad%e3%83%bb%e3%83%8a%e3%82%ac%e5%b9%b3%e5%92%8c%e3%82%b9%e3%82%bf%e3%83%87%e3%82%a3%e3%83%84%e3%82%a2%e3%83%bc%e5%a0%b1%e5%91%8a%e4%bc%9a/
END:VEVENT
END:VCALENDAR