BEGIN:VCALENDAR
VERSION:2.0
PRODID:-//神奈川県生活協同組合連合会 - ECPv5.9.1//NONSGML v1.0//EN
CALSCALE:GREGORIAN
METHOD:PUBLISH
X-WR-CALNAME:神奈川県生活協同組合連合会
X-ORIGINAL-URL:https://coopkana.jp
X-WR-CALDESC:神奈川県生活協同組合連合会 のイベント
BEGIN:VTIMEZONE
TZID:Asia/Tokyo
BEGIN:STANDARD
TZOFFSETFROM:+0900
TZOFFSETTO:+0900
TZNAME:JST
DTSTART:20250101T000000
END:STANDARD
END:VTIMEZONE
BEGIN:VEVENT
DTSTART;VALUE=DATE:20250928
DTEND;VALUE=DATE:20250929
DTSTAMP:20260422T035559
CREATED:20250804T033633Z
LAST-MODIFIED:20250804T033633Z
UID:14114-1759017600-1759103999@coopkana.jp
SUMMARY:神奈川県原爆死没者慰霊祭・追悼のつどい
DESCRIPTION:
URL:https://coopkana.jp/event/%e7%a5%9e%e5%a5%88%e5%b7%9d%e7%9c%8c%e5%8e%9f%e7%88%86%e6%ad%bb%e6%b2%a1%e8%80%85%e6%85%b0%e9%9c%8a%e7%a5%ad%e3%83%bb%e8%bf%bd%e6%82%bc%e3%81%ae%e3%81%a4%e3%81%a9%e3%81%84/
END:VEVENT
END:VCALENDAR