BEGIN:VCALENDAR
VERSION:2.0
PRODID:-//神奈川県生活協同組合連合会 - ECPv5.9.1//NONSGML v1.0//EN
CALSCALE:GREGORIAN
METHOD:PUBLISH
X-WR-CALNAME:神奈川県生活協同組合連合会
X-ORIGINAL-URL:https://coopkana.jp
X-WR-CALDESC:神奈川県生活協同組合連合会 のイベント
BEGIN:VTIMEZONE
TZID:Asia/Tokyo
BEGIN:STANDARD
TZOFFSETFROM:+0900
TZOFFSETTO:+0900
TZNAME:JST
DTSTART:20250101T000000
END:STANDARD
END:VTIMEZONE
BEGIN:VEVENT
DTSTART;VALUE=DATE:20251001
DTEND;VALUE=DATE:20251002
DTSTAMP:20260422T023338
CREATED:20250804T033747Z
LAST-MODIFIED:20250804T033747Z
UID:14115-1759276800-1759363199@coopkana.jp
SUMMARY:MCA無線訓練
DESCRIPTION:
URL:https://coopkana.jp/event/mca%e7%84%a1%e7%b7%9a%e8%a8%93%e7%b7%b4-15/
END:VEVENT
END:VCALENDAR