BEGIN:VCALENDAR
VERSION:2.0
PRODID:-//神奈川県生活協同組合連合会 - ECPv5.9.1//NONSGML v1.0//EN
CALSCALE:GREGORIAN
METHOD:PUBLISH
X-WR-CALNAME:神奈川県生活協同組合連合会
X-ORIGINAL-URL:https://coopkana.jp
X-WR-CALDESC:神奈川県生活協同組合連合会 のイベント
BEGIN:VTIMEZONE
TZID:Asia/Tokyo
BEGIN:STANDARD
TZOFFSETFROM:+0900
TZOFFSETTO:+0900
TZNAME:JST
DTSTART:20250101T000000
END:STANDARD
END:VTIMEZONE
BEGIN:VEVENT
DTSTART;VALUE=DATE:20251009
DTEND;VALUE=DATE:20251010
DTSTAMP:20260422T024035
CREATED:20250804T033819Z
LAST-MODIFIED:20250804T033819Z
UID:14116-1759968000-1760054399@coopkana.jp
SUMMARY:消団連定例幹事会
DESCRIPTION:
URL:https://coopkana.jp/event/%e6%b6%88%e5%9b%a3%e9%80%a3%e5%ae%9a%e4%be%8b%e5%b9%b9%e4%ba%8b%e4%bc%9a-35/
END:VEVENT
END:VCALENDAR