BEGIN:VCALENDAR
VERSION:2.0
PRODID:-//神奈川県生活協同組合連合会 - ECPv5.9.1//NONSGML v1.0//EN
CALSCALE:GREGORIAN
METHOD:PUBLISH
X-WR-CALNAME:神奈川県生活協同組合連合会
X-ORIGINAL-URL:https://coopkana.jp
X-WR-CALDESC:神奈川県生活協同組合連合会 のイベント
BEGIN:VTIMEZONE
TZID:Asia/Tokyo
BEGIN:STANDARD
TZOFFSETFROM:+0900
TZOFFSETTO:+0900
TZNAME:JST
DTSTART:20260101T000000
END:STANDARD
END:VTIMEZONE
BEGIN:VEVENT
DTSTART;VALUE=DATE:20260108
DTEND;VALUE=DATE:20260109
DTSTAMP:20260421T220924
CREATED:20251102T084229Z
LAST-MODIFIED:20251102T084229Z
UID:14247-1767830400-1767916799@coopkana.jp
SUMMARY:2026年賀詞交歓会
DESCRIPTION:
URL:https://coopkana.jp/event/2026%e5%b9%b4%e8%b3%80%e8%a9%9e%e4%ba%a4%e6%ad%93%e4%bc%9a/
END:VEVENT
END:VCALENDAR