BEGIN:VCALENDAR
VERSION:2.0
PRODID:-//神奈川県生活協同組合連合会 - ECPv5.9.1//NONSGML v1.0//EN
CALSCALE:GREGORIAN
METHOD:PUBLISH
X-WR-CALNAME:神奈川県生活協同組合連合会
X-ORIGINAL-URL:https://coopkana.jp
X-WR-CALDESC:神奈川県生活協同組合連合会 のイベント
BEGIN:VTIMEZONE
TZID:Asia/Tokyo
BEGIN:STANDARD
TZOFFSETFROM:+0900
TZOFFSETTO:+0900
TZNAME:JST
DTSTART:20260101T000000
END:STANDARD
END:VTIMEZONE
BEGIN:VEVENT
DTSTART;TZID=Asia/Tokyo:20260516T100000
DTEND;TZID=Asia/Tokyo:20260516T120000
DTSTAMP:20260421T191610
CREATED:20260410T030213Z
LAST-MODIFIED:20260410T030213Z
UID:14788-1778925600-1778932800@coopkana.jp
SUMMARY:かながわCoーネット地引網体験交流
DESCRIPTION:
URL:https://coopkana.jp/event/%e3%81%8b%e3%81%aa%e3%81%8c%e3%82%8fco%e3%83%bc%e3%83%8d%e3%83%83%e3%83%88%e5%9c%b0%e5%bc%95%e7%b6%b2%e4%bd%93%e9%a8%93%e4%ba%a4%e6%b5%81/
END:VEVENT
END:VCALENDAR