BEGIN:VCALENDAR
VERSION:2.0
PRODID:-//神奈川県生活協同組合連合会 - ECPv5.9.1//NONSGML v1.0//EN
CALSCALE:GREGORIAN
METHOD:PUBLISH
X-WR-CALNAME:神奈川県生活協同組合連合会
X-ORIGINAL-URL:https://coopkana.jp
X-WR-CALDESC:神奈川県生活協同組合連合会 のイベント
BEGIN:VTIMEZONE
TZID:Asia/Tokyo
BEGIN:STANDARD
TZOFFSETFROM:+0900
TZOFFSETTO:+0900
TZNAME:JST
DTSTART:20260101T000000
END:STANDARD
END:VTIMEZONE
BEGIN:VEVENT
DTSTART;TZID=Asia/Tokyo:20260528T140000
DTEND;TZID=Asia/Tokyo:20260528T153000
DTSTAMP:20260421T185829
CREATED:20260410T025700Z
LAST-MODIFIED:20260410T025700Z
UID:14786-1779976800-1779982200@coopkana.jp
SUMMARY:第1回健康チャレンジ推進会
DESCRIPTION:
URL:https://coopkana.jp/event/%e7%ac%ac1%e5%9b%9e%e5%81%a5%e5%ba%b7%e3%83%81%e3%83%a3%e3%83%ac%e3%83%b3%e3%82%b8%e6%8e%a8%e9%80%b2%e4%bc%9a/
LOCATION:神奈川県生協連会議室
END:VEVENT
END:VCALENDAR