BEGIN:VCALENDAR
VERSION:2.0
PRODID:-//神奈川県生活協同組合連合会 - ECPv5.9.1//NONSGML v1.0//EN
CALSCALE:GREGORIAN
METHOD:PUBLISH
X-WR-CALNAME:神奈川県生活協同組合連合会
X-ORIGINAL-URL:https://coopkana.jp
X-WR-CALDESC:神奈川県生活協同組合連合会 のイベント
BEGIN:VTIMEZONE
TZID:Asia/Tokyo
BEGIN:STANDARD
TZOFFSETFROM:+0900
TZOFFSETTO:+0900
TZNAME:JST
DTSTART:20260101T000000
END:STANDARD
END:VTIMEZONE
BEGIN:VEVENT
DTSTART;VALUE=DATE:20260917
DTEND;VALUE=DATE:20260918
DTSTAMP:20260422T010750
CREATED:20260330T064745Z
LAST-MODIFIED:20260330T064747Z
UID:14689-1789603200-1789689599@coopkana.jp
SUMMARY:第２回大規模災害対策委員会
DESCRIPTION:
URL:https://coopkana.jp/event/%e7%ac%ac%ef%bc%92%e5%9b%9e%e5%a4%a7%e8%a6%8f%e6%a8%a1%e7%81%bd%e5%ae%b3%e5%af%be%e7%ad%96%e5%a7%94%e5%93%a1%e4%bc%9a/
END:VEVENT
END:VCALENDAR