BEGIN:VCALENDAR
VERSION:2.0
PRODID:-//神奈川県生活協同組合連合会 - ECPv5.9.1//NONSGML v1.0//EN
CALSCALE:GREGORIAN
METHOD:PUBLISH
X-WR-CALNAME:神奈川県生活協同組合連合会
X-ORIGINAL-URL:https://coopkana.jp
X-WR-CALDESC:神奈川県生活協同組合連合会 のイベント
BEGIN:VTIMEZONE
TZID:Asia/Tokyo
BEGIN:STANDARD
TZOFFSETFROM:+0900
TZOFFSETTO:+0900
TZNAME:JST
DTSTART:20260101T000000
END:STANDARD
END:VTIMEZONE
BEGIN:VEVENT
DTSTART;VALUE=DATE:20261117
DTEND;VALUE=DATE:20261118
DTSTAMP:20260422T035241
CREATED:20260330T060211Z
LAST-MODIFIED:20260330T060215Z
UID:14653-1794873600-1794959999@coopkana.jp
SUMMARY:第4回理事会
DESCRIPTION:
URL:https://coopkana.jp/event/%e7%ac%ac4%e5%9b%9e%e7%90%86%e4%ba%8b%e4%bc%9a-8/
END:VEVENT
END:VCALENDAR