BEGIN:VCALENDAR
VERSION:2.0
PRODID:-//神奈川県生活協同組合連合会 - ECPv5.9.1//NONSGML v1.0//EN
CALSCALE:GREGORIAN
METHOD:PUBLISH
X-WR-CALNAME:神奈川県生活協同組合連合会
X-ORIGINAL-URL:https://coopkana.jp
X-WR-CALDESC:神奈川県生活協同組合連合会 のイベント
BEGIN:VTIMEZONE
TZID:Asia/Tokyo
BEGIN:STANDARD
TZOFFSETFROM:+0900
TZOFFSETTO:+0900
TZNAME:JST
DTSTART:20270101T000000
END:STANDARD
END:VTIMEZONE
BEGIN:VEVENT
DTSTART;TZID=Asia/Tokyo:20270216T140000
DTEND;TZID=Asia/Tokyo:20270216T160000
DTSTAMP:20260422T082023
CREATED:20260330T061303Z
LAST-MODIFIED:20260330T061306Z
UID:14661-1802786400-1802793600@coopkana.jp
SUMMARY:第5回常務理事会
DESCRIPTION:
URL:https://coopkana.jp/event/%e7%ac%ac5%e5%9b%9e%e5%b8%b8%e5%8b%99%e7%90%86%e4%ba%8b%e4%bc%9a-6/
LOCATION:神奈川県生協連会議室
END:VEVENT
END:VCALENDAR