BEGIN:VCALENDAR
VERSION:2.0
PRODID:-//神奈川県生活協同組合連合会 - ECPv5.9.1//NONSGML v1.0//EN
CALSCALE:GREGORIAN
METHOD:PUBLISH
X-WR-CALNAME:神奈川県生活協同組合連合会
X-ORIGINAL-URL:https://coopkana.jp
X-WR-CALDESC:神奈川県生活協同組合連合会 のイベント
BEGIN:VTIMEZONE
TZID:Asia/Tokyo
BEGIN:STANDARD
TZOFFSETFROM:+0900
TZOFFSETTO:+0900
TZNAME:JST
DTSTART:20260101T000000
END:STANDARD
END:VTIMEZONE
BEGIN:VEVENT
DTSTART;TZID=Asia/Tokyo:20260424T130000
DTEND;TZID=Asia/Tokyo:20260424T140000
DTSTAMP:20260421T175518
CREATED:20260403T040145Z
LAST-MODIFIED:20260403T040145Z
UID:14745-1777035600-1777039200@coopkana.jp
SUMMARY:エリア大学習会実行委員会
DESCRIPTION:
URL:https://coopkana.jp/event/%e3%82%a8%e3%83%aa%e3%82%a2%e5%a4%a7%e5%ad%a6%e7%bf%92%e4%bc%9a%e5%ae%9f%e8%a1%8c%e5%a7%94%e5%93%a1%e4%bc%9a-3/
LOCATION:神奈川県生協連会議室
END:VEVENT
END:VCALENDAR