BEGIN:VCALENDAR
VERSION:2.0
PRODID:-//神奈川県生活協同組合連合会 - ECPv5.9.1//NONSGML v1.0//EN
CALSCALE:GREGORIAN
METHOD:PUBLISH
X-WR-CALNAME:神奈川県生活協同組合連合会
X-ORIGINAL-URL:https://coopkana.jp
X-WR-CALDESC:神奈川県生活協同組合連合会 のイベント
BEGIN:VTIMEZONE
TZID:Asia/Tokyo
BEGIN:STANDARD
TZOFFSETFROM:+0900
TZOFFSETTO:+0900
TZNAME:JST
DTSTART:20250101T000000
END:STANDARD
END:VTIMEZONE
BEGIN:VEVENT
DTSTART;VALUE=DATE:20250807
DTEND;VALUE=DATE:20250808
DTSTAMP:20260422T052423
CREATED:20250718T072435Z
LAST-MODIFIED:20250718T072444Z
UID:14051-1754524800-1754611199@coopkana.jp
SUMMARY:ヒロシマ親子平和スタディツアー
DESCRIPTION:
URL:https://coopkana.jp/event/%e3%83%92%e3%83%ad%e3%82%b7%e3%83%9e%e8%a6%aa%e5%ad%90%e5%b9%b3%e5%92%8c%e3%82%b9%e3%82%bf%e3%83%87%e3%82%a3%e3%83%84%e3%82%a2%e3%83%bc-4/
END:VEVENT
END:VCALENDAR