BEGIN:VCALENDAR
VERSION:2.0
PRODID:-//神奈川県生活協同組合連合会 - ECPv5.9.1//NONSGML v1.0//EN
CALSCALE:GREGORIAN
METHOD:PUBLISH
X-WR-CALNAME:神奈川県生活協同組合連合会
X-ORIGINAL-URL:https://coopkana.jp
X-WR-CALDESC:神奈川県生活協同組合連合会 のイベント
BEGIN:VTIMEZONE
TZID:Asia/Tokyo
BEGIN:STANDARD
TZOFFSETFROM:+0900
TZOFFSETTO:+0900
TZNAME:JST
DTSTART:20250101T000000
END:STANDARD
END:VTIMEZONE
BEGIN:VEVENT
DTSTART;VALUE=DATE:20250912
DTEND;VALUE=DATE:20250913
DTSTAMP:20260422T035906
CREATED:20250804T033537Z
LAST-MODIFIED:20250804T033537Z
UID:14113-1757635200-1757721599@coopkana.jp
SUMMARY:健康づくりリーダー養成講座
DESCRIPTION:
URL:https://coopkana.jp/event/%e5%81%a5%e5%ba%b7%e3%81%a5%e3%81%8f%e3%82%8a%e3%83%aa%e3%83%bc%e3%83%80%e3%83%bc%e9%a4%8a%e6%88%90%e8%ac%9b%e5%ba%a7-3/
END:VEVENT
END:VCALENDAR