BEGIN:VCALENDAR
VERSION:2.0
PRODID:-//神奈川県生活協同組合連合会 - ECPv5.9.1//NONSGML v1.0//EN
CALSCALE:GREGORIAN
METHOD:PUBLISH
X-WR-CALNAME:神奈川県生活協同組合連合会
X-ORIGINAL-URL:https://coopkana.jp
X-WR-CALDESC:神奈川県生活協同組合連合会 のイベント
BEGIN:VTIMEZONE
TZID:Asia/Tokyo
BEGIN:STANDARD
TZOFFSETFROM:+0900
TZOFFSETTO:+0900
TZNAME:JST
DTSTART:20260101T000000
END:STANDARD
END:VTIMEZONE
BEGIN:VEVENT
DTSTART;VALUE=DATE:20260327
DTEND;VALUE=DATE:20260328
DTSTAMP:20260421T174201
CREATED:20260225T154349Z
LAST-MODIFIED:20260225T154427Z
UID:14506-1774569600-1774655999@coopkana.jp
SUMMARY:医療部会(専務会議）
DESCRIPTION:
URL:https://coopkana.jp/event/%e5%8c%bb%e7%99%82%e9%83%a8%e4%bc%9a%e5%b0%82%e5%8b%99%e4%bc%9a%e8%ad%b0%ef%bc%89-4/
END:VEVENT
END:VCALENDAR