BEGIN:VCALENDAR
VERSION:2.0
PRODID:-//神奈川県生活協同組合連合会 - ECPv5.9.1//NONSGML v1.0//EN
CALSCALE:GREGORIAN
METHOD:PUBLISH
X-WR-CALNAME:神奈川県生活協同組合連合会
X-ORIGINAL-URL:https://coopkana.jp
X-WR-CALDESC:神奈川県生活協同組合連合会 のイベント
BEGIN:VTIMEZONE
TZID:Asia/Tokyo
BEGIN:STANDARD
TZOFFSETFROM:+0900
TZOFFSETTO:+0900
TZNAME:JST
DTSTART:20250101T000000
END:STANDARD
END:VTIMEZONE
BEGIN:VEVENT
DTSTART;VALUE=DATE:20250822
DTEND;VALUE=DATE:20250823
DTSTAMP:20260422T065727
CREATED:20250718T072706Z
LAST-MODIFIED:20250718T072706Z
UID:14056-1755820800-1755907199@coopkana.jp
SUMMARY:原爆と人間展
DESCRIPTION:
URL:https://coopkana.jp/event/%e5%8e%9f%e7%88%86%e3%81%a8%e4%ba%ba%e9%96%93%e5%b1%95-6/
END:VEVENT
END:VCALENDAR