BEGIN:VCALENDAR
VERSION:2.0
PRODID:-//神奈川県生活協同組合連合会 - ECPv5.9.1//NONSGML v1.0//EN
CALSCALE:GREGORIAN
METHOD:PUBLISH
X-WR-CALNAME:神奈川県生活協同組合連合会
X-ORIGINAL-URL:https://coopkana.jp
X-WR-CALDESC:神奈川県生活協同組合連合会 のイベント
BEGIN:VTIMEZONE
TZID:Asia/Tokyo
BEGIN:STANDARD
TZOFFSETFROM:+0900
TZOFFSETTO:+0900
TZNAME:JST
DTSTART:20250101T000000
END:STANDARD
END:VTIMEZONE
BEGIN:VEVENT
DTSTART;VALUE=DATE:20250702
DTEND;VALUE=DATE:20250703
DTSTAMP:20260422T082549
CREATED:20250501T103835Z
LAST-MODIFIED:20250501T103835Z
UID:13841-1751414400-1751500799@coopkana.jp
SUMMARY:大規模世話人会
DESCRIPTION:
URL:https://coopkana.jp/event/%e5%a4%a7%e8%a6%8f%e6%a8%a1%e4%b8%96%e8%a9%b1%e4%ba%ba%e4%bc%9a/
END:VEVENT
END:VCALENDAR