BEGIN:VCALENDAR
VERSION:2.0
PRODID:-//神奈川県生活協同組合連合会 - ECPv5.9.1//NONSGML v1.0//EN
CALSCALE:GREGORIAN
METHOD:PUBLISH
X-WR-CALNAME:神奈川県生活協同組合連合会
X-ORIGINAL-URL:https://coopkana.jp
X-WR-CALDESC:神奈川県生活協同組合連合会 のイベント
BEGIN:VTIMEZONE
TZID:Asia/Tokyo
BEGIN:STANDARD
TZOFFSETFROM:+0900
TZOFFSETTO:+0900
TZNAME:JST
DTSTART:20250101T000000
END:STANDARD
END:VTIMEZONE
BEGIN:VEVENT
DTSTART;VALUE=DATE:20250513
DTEND;VALUE=DATE:20250514
DTSTAMP:20260422T094851
CREATED:20250312T023736Z
LAST-MODIFIED:20250312T023736Z
UID:13738-1747094400-1747180799@coopkana.jp
SUMMARY:平和行進　
DESCRIPTION:
URL:https://coopkana.jp/event/%e5%b9%b3%e5%92%8c%e8%a1%8c%e9%80%b2%e3%80%80/
END:VEVENT
END:VCALENDAR