BEGIN:VCALENDAR
VERSION:2.0
PRODID:-//神奈川県生活協同組合連合会 - ECPv5.9.1//NONSGML v1.0//EN
CALSCALE:GREGORIAN
METHOD:PUBLISH
X-WR-CALNAME:神奈川県生活協同組合連合会
X-ORIGINAL-URL:https://coopkana.jp
X-WR-CALDESC:神奈川県生活協同組合連合会 のイベント
BEGIN:VTIMEZONE
TZID:Asia/Tokyo
BEGIN:STANDARD
TZOFFSETFROM:+0900
TZOFFSETTO:+0900
TZNAME:JST
DTSTART:20260101T000000
END:STANDARD
END:VTIMEZONE
BEGIN:VEVENT
DTSTART;VALUE=DATE:20260311
DTEND;VALUE=DATE:20260312
DTSTAMP:20260421T193104
CREATED:20260225T153908Z
LAST-MODIFIED:20260225T153908Z
UID:14501-1773187200-1773273599@coopkana.jp
SUMMARY:携帯メール送受信訓練
DESCRIPTION:
URL:https://coopkana.jp/event/%e6%90%ba%e5%b8%af%e3%83%a1%e3%83%bc%e3%83%ab%e9%80%81%e5%8f%97%e4%bf%a1%e8%a8%93%e7%b7%b4-2/
END:VEVENT
END:VCALENDAR