BEGIN:VCALENDAR
VERSION:2.0
PRODID:-//神奈川県生活協同組合連合会 - ECPv5.9.1//NONSGML v1.0//EN
CALSCALE:GREGORIAN
METHOD:PUBLISH
X-WR-CALNAME:神奈川県生活協同組合連合会
X-ORIGINAL-URL:https://coopkana.jp
X-WR-CALDESC:神奈川県生活協同組合連合会 のイベント
BEGIN:VTIMEZONE
TZID:Asia/Tokyo
BEGIN:STANDARD
TZOFFSETFROM:+0900
TZOFFSETTO:+0900
TZNAME:JST
DTSTART:20260101T000000
END:STANDARD
END:VTIMEZONE
BEGIN:VEVENT
DTSTART;VALUE=DATE:20261008
DTEND;VALUE=DATE:20261009
DTSTAMP:20260421T220506
CREATED:20260330T071052Z
LAST-MODIFIED:20260330T071054Z
UID:14704-1791417600-1791503999@coopkana.jp
SUMMARY:第４回消団連幹事会
DESCRIPTION:
URL:https://coopkana.jp/event/%e7%ac%ac%ef%bc%94%e5%9b%9e%e6%b6%88%e5%9b%a3%e9%80%a3%e5%b9%b9%e4%ba%8b%e4%bc%9a/
END:VEVENT
END:VCALENDAR