BEGIN:VCALENDAR
VERSION:2.0
PRODID:-//神奈川県生活協同組合連合会 - ECPv5.9.1//NONSGML v1.0//EN
CALSCALE:GREGORIAN
METHOD:PUBLISH
X-WR-CALNAME:神奈川県生活協同組合連合会
X-ORIGINAL-URL:https://coopkana.jp
X-WR-CALDESC:神奈川県生活協同組合連合会 のイベント
BEGIN:VTIMEZONE
TZID:Asia/Tokyo
BEGIN:STANDARD
TZOFFSETFROM:+0900
TZOFFSETTO:+0900
TZNAME:JST
DTSTART:20250101T000000
END:STANDARD
END:VTIMEZONE
BEGIN:VEVENT
DTSTART;VALUE=DATE:20250715
DTEND;VALUE=DATE:20250716
DTSTAMP:20260422T083105
CREATED:20250501T104059Z
LAST-MODIFIED:20250501T104059Z
UID:13844-1752537600-1752623999@coopkana.jp
SUMMARY:第1回常務理事会／第2回理事会
DESCRIPTION:
URL:https://coopkana.jp/event/%e7%ac%ac1%e5%9b%9e%e5%b8%b8%e5%8b%99%e7%90%86%e4%ba%8b%e4%bc%9a%ef%bc%8f%e7%ac%ac2%e5%9b%9e%e7%90%86%e4%ba%8b%e4%bc%9a/
END:VEVENT
END:VCALENDAR