BEGIN:VCALENDAR
VERSION:2.0
PRODID:-//神奈川県生活協同組合連合会 - ECPv5.9.1//NONSGML v1.0//EN
CALSCALE:GREGORIAN
METHOD:PUBLISH
X-WR-CALNAME:神奈川県生活協同組合連合会
X-ORIGINAL-URL:https://coopkana.jp
X-WR-CALDESC:神奈川県生活協同組合連合会 のイベント
BEGIN:VTIMEZONE
TZID:Asia/Tokyo
BEGIN:STANDARD
TZOFFSETFROM:+0900
TZOFFSETTO:+0900
TZNAME:JST
DTSTART:20260101T000000
END:STANDARD
END:VTIMEZONE
BEGIN:VEVENT
DTSTART;TZID=Asia/Tokyo:20260714T140000
DTEND;TZID=Asia/Tokyo:20260714T150000
DTSTAMP:20260421T220506
CREATED:20260330T060723Z
LAST-MODIFIED:20260330T060725Z
UID:14657-1784037600-1784041200@coopkana.jp
SUMMARY:第1回常務理事会
DESCRIPTION:
URL:https://coopkana.jp/event/%e7%ac%ac1%e5%9b%9e%e5%b8%b8%e5%8b%99%e7%90%86%e4%ba%8b%e4%bc%9a-4/
LOCATION:川崎市産業振興会館\, 神奈川県川崎市幸区堀川町６６番地２０\, 川崎\, 日本
END:VEVENT
END:VCALENDAR