BEGIN:VCALENDAR
VERSION:2.0
PRODID:-//神奈川県生活協同組合連合会 - ECPv5.9.1//NONSGML v1.0//EN
CALSCALE:GREGORIAN
METHOD:PUBLISH
X-WR-CALNAME:神奈川県生活協同組合連合会
X-ORIGINAL-URL:https://coopkana.jp
X-WR-CALDESC:神奈川県生活協同組合連合会 のイベント
BEGIN:VTIMEZONE
TZID:Asia/Tokyo
BEGIN:STANDARD
TZOFFSETFROM:+0900
TZOFFSETTO:+0900
TZNAME:JST
DTSTART:20260101T000000
END:STANDARD
END:VTIMEZONE
BEGIN:VEVENT
DTSTART;VALUE=DATE:20260611
DTEND;VALUE=DATE:20260612
DTSTAMP:20260421T202204
CREATED:20260330T054430Z
LAST-MODIFIED:20260330T054433Z
UID:14644-1781136000-1781222399@coopkana.jp
SUMMARY:第1回消団連幹事会
DESCRIPTION:
URL:https://coopkana.jp/event/%e7%ac%ac1%e5%9b%9e%e6%b6%88%e5%9b%a3%e9%80%a3%e5%b9%b9%e4%ba%8b%e4%bc%9a/
END:VEVENT
END:VCALENDAR