BEGIN:VCALENDAR
VERSION:2.0
PRODID:-//神奈川県生活協同組合連合会 - ECPv5.9.1//NONSGML v1.0//EN
CALSCALE:GREGORIAN
METHOD:PUBLISH
X-WR-CALNAME:神奈川県生活協同組合連合会
X-ORIGINAL-URL:https://coopkana.jp
X-WR-CALDESC:神奈川県生活協同組合連合会 のイベント
BEGIN:VTIMEZONE
TZID:Asia/Tokyo
BEGIN:STANDARD
TZOFFSETFROM:+0900
TZOFFSETTO:+0900
TZNAME:JST
DTSTART:20250101T000000
END:STANDARD
END:VTIMEZONE
BEGIN:VEVENT
DTSTART;VALUE=DATE:20250516
DTEND;VALUE=DATE:20250517
DTSTAMP:20260422T112759
CREATED:20250312T024700Z
LAST-MODIFIED:20250312T024700Z
UID:13751-1747353600-1747439999@coopkana.jp
SUMMARY:第10回組合員活動委員会
DESCRIPTION:
URL:https://coopkana.jp/event/%e7%ac%ac10%e5%9b%9e%e7%b5%84%e5%90%88%e5%93%a1%e6%b4%bb%e5%8b%95%e5%a7%94%e5%93%a1%e4%bc%9a-7/
END:VEVENT
END:VCALENDAR