BEGIN:VCALENDAR
VERSION:2.0
PRODID:-//神奈川県生活協同組合連合会 - ECPv5.9.1//NONSGML v1.0//EN
CALSCALE:GREGORIAN
METHOD:PUBLISH
X-WR-CALNAME:神奈川県生活協同組合連合会
X-ORIGINAL-URL:https://coopkana.jp
X-WR-CALDESC:神奈川県生活協同組合連合会 のイベント
BEGIN:VTIMEZONE
TZID:Asia/Tokyo
BEGIN:STANDARD
TZOFFSETFROM:+0900
TZOFFSETTO:+0900
TZNAME:JST
DTSTART:20250101T000000
END:STANDARD
END:VTIMEZONE
BEGIN:VEVENT
DTSTART;VALUE=DATE:20250918
DTEND;VALUE=DATE:20250919
DTSTAMP:20260422T052256
CREATED:20250718T073230Z
LAST-MODIFIED:20250718T073230Z
UID:14066-1758153600-1758239999@coopkana.jp
SUMMARY:第2回大規模災害対策委員会
DESCRIPTION:
URL:https://coopkana.jp/event/%e7%ac%ac2%e5%9b%9e%e5%a4%a7%e8%a6%8f%e6%a8%a1%e7%81%bd%e5%ae%b3%e5%af%be%e7%ad%96%e5%a7%94%e5%93%a1%e4%bc%9a-7/
END:VEVENT
END:VCALENDAR