BEGIN:VCALENDAR
VERSION:2.0
PRODID:-//神奈川県生活協同組合連合会 - ECPv5.9.1//NONSGML v1.0//EN
CALSCALE:GREGORIAN
METHOD:PUBLISH
X-WR-CALNAME:神奈川県生活協同組合連合会
X-ORIGINAL-URL:https://coopkana.jp
X-WR-CALDESC:神奈川県生活協同組合連合会 のイベント
BEGIN:VTIMEZONE
TZID:Asia/Tokyo
BEGIN:STANDARD
TZOFFSETFROM:+0900
TZOFFSETTO:+0900
TZNAME:JST
DTSTART:20250101T000000
END:STANDARD
END:VTIMEZONE
BEGIN:VEVENT
DTSTART;VALUE=DATE:20250408
DTEND;VALUE=DATE:20250409
DTSTAMP:20260422T113302
CREATED:20250312T020925Z
LAST-MODIFIED:20250312T020925Z
UID:13727-1744070400-1744156799@coopkana.jp
SUMMARY:第3回平和行進懇談会
DESCRIPTION:
URL:https://coopkana.jp/event/%e7%ac%ac3%e5%9b%9e%e5%b9%b3%e5%92%8c%e8%a1%8c%e9%80%b2%e6%87%87%e8%ab%87%e4%bc%9a/
END:VEVENT
END:VCALENDAR