BEGIN:VCALENDAR
VERSION:2.0
PRODID:-//神奈川県生活協同組合連合会 - ECPv5.9.1//NONSGML v1.0//EN
CALSCALE:GREGORIAN
METHOD:PUBLISH
X-WR-CALNAME:神奈川県生活協同組合連合会
X-ORIGINAL-URL:https://coopkana.jp
X-WR-CALDESC:神奈川県生活協同組合連合会 のイベント
BEGIN:VTIMEZONE
TZID:Asia/Tokyo
BEGIN:STANDARD
TZOFFSETFROM:+0900
TZOFFSETTO:+0900
TZNAME:JST
DTSTART:20260101T000000
END:STANDARD
END:VTIMEZONE
BEGIN:VEVENT
DTSTART;VALUE=DATE:20260401
DTEND;VALUE=DATE:20260402
DTSTAMP:20260421T175544
CREATED:20260225T154812Z
LAST-MODIFIED:20260225T154812Z
UID:14507-1775001600-1775087999@coopkana.jp
SUMMARY:11MCA無線訓練 大規模世話人会
DESCRIPTION:
URL:https://coopkana.jp/event/11mca%e7%84%a1%e7%b7%9a%e8%a8%93%e7%b7%b4-%e5%a4%a7%e8%a6%8f%e6%a8%a1%e4%b8%96%e8%a9%b1%e4%ba%ba%e4%bc%9a/
END:VEVENT
END:VCALENDAR